BEGIN:VCALENDAR
VERSION:2.0
PRODID:-//Library Market//iCal Export//EN
BEGIN:VEVENT
SUMMARY:Tue-do-sday
UID:2735
DTSTAMP:20260423T033400Z
DTSTART:20261215T213000Z
DTEND:20261215T223000Z
LOCATION:930 Park Street, Grinnell, IA 50112, United States
ROOM: Story Room
DESCRIPTION:
URL:https://www.drakelibrary.org/event/tue-do-sday-2735
END:VEVENT
END:VCALENDAR
