BEGIN:VCALENDAR
VERSION:2.0
PRODID:-//Library Market//iCal Export//EN
BEGIN:VEVENT
SUMMARY:Tue-do-sday
UID:2734
DTSTAMP:20260423T021100Z
DTSTART:20261208T213000Z
DTEND:20261208T223000Z
LOCATION:930 Park Street, Grinnell, IA 50112, United States
ROOM: Story Room
DESCRIPTION:
URL:https://www.drakelibrary.org/event/tue-do-sday-2734
END:VEVENT
END:VCALENDAR
