BEGIN:VCALENDAR
VERSION:2.0
PRODID:-//Library Market//iCal Export//EN
BEGIN:VEVENT
SUMMARY:Tue-do-sday
UID:2730
DTSTAMP:20260425T113200Z
DTSTART:20261103T213000Z
DTEND:20261103T223000Z
LOCATION:930 Park Street, Grinnell, IA 50112, United States
ROOM: Story Room
DESCRIPTION:
URL:https://www.drakelibrary.org/event/tue-do-sday-2730
END:VEVENT
END:VCALENDAR
