BEGIN:VCALENDAR
VERSION:2.0
PRODID:-//Library Market//iCal Export//EN
BEGIN:VEVENT
SUMMARY:Tue-do-sday
UID:2727
DTSTAMP:20260423T031700Z
DTSTART:20261013T203000Z
DTEND:20261013T213000Z
LOCATION:930 Park Street, Grinnell, IA 50112, United States
ROOM: Story Room
DESCRIPTION:
URL:https://www.drakelibrary.org/event/tue-do-sday-2727
END:VEVENT
END:VCALENDAR
