BEGIN:VCALENDAR
VERSION:2.0
PRODID:-//Library Market//iCal Export//EN
BEGIN:VEVENT
SUMMARY:Library Club
UID:2722
DTSTAMP:20260423T054300Z
DTSTART:20261216T213000Z
DTEND:20261216T223000Z
LOCATION:930 Park Street, Grinnell, IA 50112, United States
ROOM: Story Room
DESCRIPTION:Hang out at the library! Try out activities like legos, art, s
 cience, games, and more! All materials and a snack are included.
URL:https://www.drakelibrary.org/event/library-club-2722
END:VEVENT
END:VCALENDAR
