BEGIN:VCALENDAR
VERSION:2.0
PRODID:-//Library Market//iCal Export//EN
BEGIN:VEVENT
SUMMARY:Library Club
UID:2721
DTSTAMP:20260423T050400Z
DTSTART:20261209T213000Z
DTEND:20261209T223000Z
LOCATION:930 Park Street, Grinnell, IA 50112, United States
ROOM: Story Room
DESCRIPTION:Hang out at the library! Try out activities like legos, art, s
 cience, games, and more! All materials and a snack are included.
URL:https://www.drakelibrary.org/event/library-club-2721
END:VEVENT
END:VCALENDAR
