BEGIN:VCALENDAR
VERSION:2.0
PRODID:-//Library Market//iCal Export//EN
BEGIN:VEVENT
SUMMARY:Storytime
UID:2704
DTSTAMP:20260423T055900Z
DTSTART:20261104T163000Z
DTEND:20261104T170000Z
LOCATION:930 Park Street, Grinnell, IA 50112, United States
ROOM: Story Room
DESCRIPTION:
URL:https://www.drakelibrary.org/event/storytime-2704
END:VEVENT
END:VCALENDAR
