BEGIN:VCALENDAR
VERSION:2.0
PRODID:-//Library Market//iCal Export//EN
BEGIN:VEVENT
SUMMARY:Storytime
UID:2698
DTSTAMP:20260423T054300Z
DTSTART:20260923T153000Z
DTEND:20260923T160000Z
LOCATION:930 Park Street, Grinnell, IA 50112, United States
ROOM: Story Room
DESCRIPTION:
URL:https://www.drakelibrary.org/event/storytime-2698
END:VEVENT
END:VCALENDAR
