BEGIN:VCALENDAR
VERSION:2.0
PRODID:-//Library Market//iCal Export//EN
BEGIN:VEVENT
SUMMARY:Storytime
UID:2697
DTSTAMP:20260423T042900Z
DTSTART:20260916T153000Z
DTEND:20260916T160000Z
LOCATION:930 Park Street, Grinnell, IA 50112, United States
ROOM: Story Room
DESCRIPTION:
URL:https://www.drakelibrary.org/event/storytime-2697
END:VEVENT
END:VCALENDAR
