BEGIN:VCALENDAR
VERSION:2.0
PRODID:-//Library Market//iCal Export//EN
BEGIN:VEVENT
SUMMARY:Book Babies
UID:2696
DTSTAMP:20260423T054300Z
DTSTART:20261215T163000Z
DTEND:20261215T170000Z
LOCATION:930 Park Street, Grinnell, IA 50112, United States
ROOM: Story Room
DESCRIPTION:
URL:https://www.drakelibrary.org/event/book-babies-2696
END:VEVENT
END:VCALENDAR
