BEGIN:VCALENDAR
VERSION:2.0
PRODID:-//Library Market//iCal Export//EN
BEGIN:VEVENT
SUMMARY:Book Babies
UID:2695
DTSTAMP:20260423T050400Z
DTSTART:20261208T163000Z
DTEND:20261208T170000Z
LOCATION:930 Park Street, Grinnell, IA 50112, United States
ROOM: Story Room
DESCRIPTION:
URL:https://www.drakelibrary.org/event/book-babies-2695
END:VEVENT
END:VCALENDAR
