BEGIN:VCALENDAR
VERSION:2.0
PRODID:-//Library Market//iCal Export//EN
BEGIN:VEVENT
SUMMARY:Book Babies
UID:2684
DTSTAMP:20260423T042900Z
DTSTART:20260915T153000Z
DTEND:20260915T160000Z
LOCATION:930 Park Street, Grinnell, IA 50112, United States
ROOM: Story Room
DESCRIPTION:
URL:https://www.drakelibrary.org/event/book-babies-2684
END:VEVENT
END:VCALENDAR
