BEGIN:VCALENDAR
VERSION:2.0
PRODID:-//Library Market//iCal Export//EN
BEGIN:VEVENT
SUMMARY:The Community Crate Resource Fair
UID:2678
DTSTAMP:20260423T001500Z
DTSTART:20260826T050000Z
DTEND:20260826T050000Z
LOCATION:930 Park Street, Grinnell, IA 50112, United States
ROOM: Caulkins Community Room
DESCRIPTION:
URL:https://www.drakelibrary.org/event/community-crate-resource-fair-2678
END:VEVENT
END:VCALENDAR
